BEGIN:VCALENDAR
VERSION:2.0
PRODID:-//ChamberMaster//Event Calendar 2.0//EN
METHOD:PUBLISH
X-PUBLISHED-TTL:P3D
REFRESH-INTERVAL:P3D
CALSCALE:GREGORIAN
BEGIN:VEVENT
DTSTART:20210127T213000Z
DTEND:20210127T223000Z
X-MICROSOFT-CDO-ALLDAYEVENT:FALSE
SUMMARY:Are You Down with PPP? Navigating the Latest SBA Stimulus Package
DESCRIPTION:Join nglccNY and TD Bank as we bring together specialists to discuss important aspects to the latest SBA Stimulus package and the relevant facets you\, as a business owner or leader\, should know as we move into 2021.\n\n \n\nWe are excited to bring together:\n\nSteve Garibell\, Vice President Business Development LGBTQ2+\n\nLou Pizzileo   Partner\, Grassi\n\nBrian Auerbach   Major Market Sales Executive\, Paycor\n\nClarence Campbell   Jr. Executive Vice President Of Sales\n\nLendistry\n\n \n\nWe look forward to gathering these experts to guide us through key parts of PPP Loans\, Tax updates\, new legislation\, and more!
X-ALT-DESC;FMTTYPE=text/html:<br />\nJoin <strong>nglccNY</strong> and <strong>TD Bank</strong> as we bring together specialists to discuss important aspects to the latest SBA Stimulus package and the relevant facets you\, as a business owner or leader\, should know as we move into 2021.<br />\n&nbsp\;<br />\nWe are excited to bring together:<br />\nSteve Garibell\, Vice President Business Development LGBTQ2+<br />\nLou Pizzileo &ndash\; Partner\, Grassi<br />\nBrian Auerbach &ndash\; Major Market Sales Executive\, Paycor<br />\nClarence Campbell &ndash\; Jr. Executive Vice President Of Sales<br />\nLendistry<br />\n&nbsp\;<br />\nWe look forward to gathering these experts to guide us through key parts of PPP Loans\, Tax updates\, new legislation\, and more!
LOCATION:Registration is now closed. If you are interested in attending please reach out to Info@nglccny.org to receive the zoom link.
UID:e.1890.1552
SEQUENCE:3
DTSTAMP:20260422T083058Z
URL:https://business.nglccny.org/events/details/are-you-down-with-ppp-navigating-the-latest-sba-stimulus-package-1552
END:VEVENT

END:VCALENDAR
