BEGIN:VCALENDAR
VERSION:2.0
PRODID:-//ChamberMaster//Event Calendar 2.0//EN
METHOD:PUBLISH
X-PUBLISHED-TTL:P3D
REFRESH-INTERVAL:P3D
CALSCALE:GREGORIAN
BEGIN:VEVENT
DTSTART:20220216T190000Z
DTEND:20220216T203000Z
X-MICROSOFT-CDO-ALLDAYEVENT:FALSE
SUMMARY:Empowering Black LGBT Entrepreneurship | Wellness\, Financial & Affiliations
DESCRIPTION:Click HERE to register for this webinar.\n\n\n\nJoin the NGLCC Communities of Color Initiative (CoCI) on Wednesday\, February 16 at 2pm for a virtual Black History Month webinar on Empowering Black LGBT Entrepreneurship: Wellness\, Financial\, & Affiliations. Questions? Reach out to coci@nglcc.org!\n\n\n\nThis webinar will include a series of panels & conversations featuring:\n\n	Kendra Witherspoon Kelly | Owner\, The Resilience Project\n	Paul Ashley | Experience Leader in Strategic Sourcing & Procurement Strategy & NGLCC Board Member\, Bristol Myers Squibb\n	Brian Thompson | Owner\, Brian Thompson Financial\, LLC\n	Anisha Jackson | Supplier Diversity Manager\, American Family Insurance\n	Marquita Thomas | Executive Director of Los Angeles LGBTQCC)\n	Jason Rae | President & CEO of Wisconsin LGBTCC & NGLCC VP\, Affiliate Relations\n	Rose Hatcher | Director\, Supplier Diversity\, ViacomCBS\n	Joy Crump | Executive Chef\, FOODIE\n\nPlease contact coci@nglcc.org with any questions.
X-ALT-DESC;FMTTYPE=text/html:<br />\n<strong>Click <a href="https://us02web.zoom.us/meeting/register/tZMocuCprDktG9CHZuChlkjBRcupAGP2s4Hb">HERE</a> to register for this webinar.</strong><br />\n<br />\nJoin the NGLCC Communities of Color Initiative (<a href="http://nglcc.org/coci">CoCI</a>) on Wednesday\, February 16 at 2pm for a virtual Black History Month webinar on Empowering Black LGBT Entrepreneurship: Wellness\, Financial\, &amp\; Affiliations. Questions? Reach out to coci@nglcc.org!<br />\n<br />\nThis webinar will include a series of panels &amp\; conversations featuring:\n<ul>\n	<li>Kendra Witherspoon Kelly | Owner\, The Resilience Project</li>\n	<li>Paul Ashley | Experience Leader in Strategic Sourcing &amp\; Procurement Strategy &amp\; NGLCC Board Member\, Bristol Myers Squibb</li>\n	<li>Brian Thompson | Owner\, Brian Thompson Financial\, LLC</li>\n	<li>Anisha Jackson | Supplier Diversity Manager\, American Family Insurance</li>\n	<li>Marquita Thomas | Executive Director of Los Angeles LGBTQCC)</li>\n	<li>Jason Rae | President &amp\; CEO of Wisconsin LGBTCC &amp\; NGLCC VP\, Affiliate Relations</li>\n	<li>Rose Hatcher | Director\, Supplier Diversity\, ViacomCBS</li>\n	<li>Joy Crump | Executive Chef\, FOODIE</li>\n</ul>\nPlease contact <a href="mailto:coci@nglcc.org">coci@nglcc.org</a>&nbsp\;with any questions.
LOCATION:Click here to register.
UID:e.1890.1571
SEQUENCE:3
DTSTAMP:20260420T170523Z
URL:https://business.nglccny.org/events/details/empowering-black-lgbt-entrepreneurship-wellness-financial-affiliations-1571
END:VEVENT

END:VCALENDAR
