BEGIN:VCALENDAR
VERSION:2.0
PRODID:-//ChamberMaster//Event Calendar 2.0//EN
METHOD:PUBLISH
X-PUBLISHED-TTL:P3D
REFRESH-INTERVAL:P3D
CALSCALE:GREGORIAN
BEGIN:VEVENT
DTSTART:20181108T223000Z
DTEND:20181109T013000Z
X-MICROSOFT-CDO-ALLDAYEVENT:FALSE
SUMMARY:How to Manage a Competitive RFP
DESCRIPTION:This session covers what an RFP is\, the rationale for use of RFPs\, response to RFPs and what organizations expect from vendor submissions. Topics to be included:\n\n	Importance of competitive bidding and creating a level playing field\n	Creation of detailed scopes with specific evaluation criteria\n	The inclusion of diverse vendors in RFPs\n	What's included in an RFP\, including scope\, types of questions\, and potential inclusion of security and ethics (and why these would be included)\n	What's considered a good submission: answering completely\, using format requested in the RFP for any file submissions\, and responding to all questions asked directly without selling up \n\nTakeaways:\n\n\n	How to better respond to RFPs\n	A better understanding of reasons for the inclusion of certain topics within RFPs\n\nSpecial thanks to event sponsors the Federal Reserve Bank of New York and Kelley Drye.
X-ALT-DESC;FMTTYPE=text/html:This session covers what an RFP is\, the rationale for use of RFPs\, response to RFPs and what organizations expect from vendor submissions. Topics to be included:\n<ul>\n	<li>Importance of competitive bidding and creating a level playing field</li>\n	<li>Creation of detailed scopes with specific evaluation criteria</li>\n	<li>The inclusion of diverse vendors in RFPs</li>\n	<li>What&rsquo\;s included in an RFP\, including scope\, types of questions\, and potential inclusion of security and ethics (and why these would be included)</li>\n	<li>What&rsquo\;s considered a good submission: answering completely\, using format requested in the RFP for any file submissions\, and responding to all questions asked directly without selling up&nbsp\;</li>\n</ul>\nTakeaways:\n\n<ul>\n	<li>How to better respond to RFPs</li>\n	<li>A better understanding of reasons for the inclusion of certain topics within RFPs</li>\n</ul>\nSpecial thanks to event sponsors the Federal Reserve Bank of New York and Kelley Drye.
LOCATION:101 Park Avenue New York\, NY 10178
UID:e.1890.1418
SEQUENCE:3
DTSTAMP:20260424T030533Z
URL:https://business.nglccny.org/events/details/how-to-manage-a-competitive-rfp-1418
END:VEVENT

END:VCALENDAR
