BEGIN:VCALENDAR
VERSION:2.0
PRODID:-//ChamberMaster//Event Calendar 2.0//EN
METHOD:PUBLISH
X-PUBLISHED-TTL:P3D
REFRESH-INTERVAL:P3D
CALSCALE:GREGORIAN
BEGIN:VEVENT
DTSTART:20220608T220000Z
DTEND:20220609T000000Z
X-MICROSOFT-CDO-ALLDAYEVENT:FALSE
SUMMARY:June Long Island M3 2022
DESCRIPTION:You're invited to the June Long Island M3! Come celebrate Pride with us and be a part of the vibrant and inclusive LGBTQ+ Long Island business community.\n\n\n\nThis nglccNY Long Island Members' Mixer is an opportunity for LGBT business owners\, corporate representatives\, nonprofit leaders\, allies\, and community members to network\, share ideas\, and have fun. We're thrilled to continue growing a robust presence on Long Island\, and look forward to connecting with and showing our support for dedicated LGBT business owners who are bolstering the economy on the Island!\n\n\n\nWhat is nglccNY?\n\n \n\nThe National LGBT Chamber of Commerce New York (nglccNY) provides its members with transformational networking and educational opportunities that increase the financial\, intellectual\, and social capital of the Lesbian\, Gay\, Bisexual and Transgender business community. As the New York LGBT & Allied Business Network of the National LGBT Chamber of Commerce\, nglccNY provides certification opportunities for LGBT Business Enterprises (LGBTBEs)\, opening up countless contracting and procurement opportunities with corporations and governments nationwide.\n\n\n\nAbout the National LGBT Chamber of Commerce:\n\n\n\nThe National LGBT Chamber of Commerce (NGLCC)\, the business voice of the LGBT community\, is the only national advocacy organization dedicated to expanding economic opportunities for the LGBT business community.\n\n \n\nNGLCC is the exclusive third-party certifying body for LGBT Business Enterprises (LGBTBEs). Over 1/3 of Fortune 500 recognize this certification and partner with NGLCC to create fully LGBT-inclusive supply-chains.\n\n \n\nThe LGBT business owners NGLCC represents generate over $1.7 trillion in economic impact\, create jobs and innovate business solutions nationwide. Additionally\, NGLCC is the leading public policy advocate working to include certified LGBT businesses in procurement opportunities at the federal\, state and local level. NGLCC Global is expanding its reach to five continents\, bridging economic opportunity and LGBTI human rights worldwide.
X-ALT-DESC;FMTTYPE=text/html:<div><br />\n<strong>You&#39\;re invited to the June Long Island M3!&nbsp\;</strong>Come celebrate Pride with us and be a part of the vibrant and inclusive LGBTQ+ Long Island business community.<br />\n<br />\nThis nglccNY Long Island Members&rsquo\; Mixer is an opportunity for LGBT business owners\, corporate representatives\, nonprofit leaders\, allies\, and community members&nbsp\;to network\, share ideas\, and have fun. We&rsquo\;re thrilled to continue growing a robust presence on Long Island\, and look forward to connecting with and showing our support for dedicated LGBT business owners who are bolstering the economy on the Island!<br />\n<br />\n<strong><u>What is nglccNY?</u></strong><br />\n&nbsp\;<br />\nThe National LGBT Chamber of Commerce New York (nglccNY) provides its members with transformational networking and educational opportunities that increase the financial\, intellectual\, and social capital of the Lesbian\, Gay\, Bisexual and Transgender business community. As the New York LGBT &amp\; Allied Business Network of the National LGBT Chamber of Commerce\, nglccNY provides certification opportunities for LGBT Business Enterprises (LGBTBEs)\, opening up countless contracting and procurement opportunities with corporations and governments nationwide.<br />\n<br />\n<u><strong>About the National LGBT Chamber of Commerce:</strong></u><br />\n<br />\nThe National LGBT Chamber of Commerce (NGLCC)\, the business voice of the LGBT community\, is the only national advocacy organization dedicated to expanding economic opportunities for the LGBT business community.<br />\n&nbsp\;<br />\nNGLCC is the exclusive third-party certifying body for LGBT Business Enterprises (LGBTBEs). Over 1/3 of Fortune 500 recognize this certification and partner with NGLCC to create fully LGBT-inclusive supply-chains.<br />\n&nbsp\;<br />\nThe LGBT business owners NGLCC represents generate over $1.7 trillion in economic impact\, create jobs and innovate business solutions nationwide. Additionally\, NGLCC is the leading public policy advocate working to include certified LGBT businesses in procurement opportunities at the federal\, state and local level. NGLCC Global is expanding its reach to five continents\, bridging economic opportunity and LGBTI human rights worldwide.</div>\n
LOCATION:41-43 East Main Street Bay Shore\, NY 11706
UID:e.1890.1586
SEQUENCE:3
DTSTAMP:20260420T085856Z
URL:https://business.nglccny.org/events/details/june-long-island-m3-2022-1586
END:VEVENT

END:VCALENDAR
