BEGIN:VCALENDAR
VERSION:2.0
PRODID:-//ChamberMaster//Event Calendar 2.0//EN
METHOD:PUBLISH
X-PUBLISHED-TTL:P3D
REFRESH-INTERVAL:P3D
CALSCALE:GREGORIAN
BEGIN:VEVENT
DTSTART:20180711T123000Z
DTEND:20180711T140000Z
X-MICROSOFT-CDO-ALLDAYEVENT:FALSE
SUMMARY:LGBT Business Owners Roundtable: The Value of a Supportive Business Community
DESCRIPTION:It requires an enormous amount of passion and courage to bring our creative and intellectual gifts to the market and to make a living. It's impossible doing it alone\, which is why building a business community is crucial. When we support each other\, we all succeed. Please join us to share the stories\, challenges\, and victories of being an entrepreneur. \n\n \n\nIn celebration of Pride\, NGLCCNY\, Fortis Lux Financial\, and MassMutual are facilitating a breakfast roundtable discussion led by:\n\n \n\nThomas Chernick\, Director\, NGLCCNY\n\nIngrid Galvez\, Business Strategist\, Thorp\, LLC and Chair\, Diversity & Inclusion and Programming\, NGLCCNY\n\nMartin Cowart\, Financial Planner\, Fortis Lux Financial\n\nTracy Shaw\, AVP\, MassMutual\n\n\n\nInsights from a recent Business Owners study and the NGLCC Economic Report will serve as a springboard for a conversation.\n\n \n\nCoffee and light breakfast will be provided.\np.p1 {margin: 0.0px 0.0px 0.0px 0.0px\; font: 15.0px Georgia\; color: #433f4d\; -webkit-text-stroke: #433f4d} p.p2 {margin: 0.0px 0.0px 0.0px 0.0px\; font: 15.0px Georgia\; color: #433f4d\; -webkit-text-stroke: #433f4d\; min-height: 17.0px} p.p3 {margin: 0.0px 0.0px 0.0px 0.0px\; font: 11.0px Georgia\; color: #433f4d\; -webkit-text-stroke: #433f4d} span.s1 {font-kerning: none}
X-ALT-DESC;FMTTYPE=text/html:<p class="p1"><span style="font-family:tahoma\;"><span style="color:#433F4D\;">It requires an enormous amount of passion and courage to bring our creative and intellectual gifts to the market&nbsp\;and to make a living. It&#39\;s impossible doing it alone\,&nbsp\;which is why building a business&nbsp\;community is&nbsp\;crucial.&nbsp\;When we s</span><span style="color:#433F4D\;">upport&nbsp\;each other\,</span>&nbsp\;we all succeed.&nbsp\;<span style="font-kerning:none\;">Please join us to share the stories\, challenges\, and victories of being an entrepreneur.&nbsp\;</span><br />\n&nbsp\;<br />\n<span style="color:#433F4D\;">In celebration of Pride\,&nbsp\;NGLCCNY</span><span style="color:#433F4D\;">\, Fortis Lux Financial\, and&nbsp\;</span><span style="color:#433F4D\;">MassMutual</span><span style="color:#433F4D\;">&nbsp\;are facilitating a breakfast roundtable discussion led by:</span><br />\n&nbsp\;<br />\n<strong><span style="color:#433F4D\;">Thomas&nbsp\;Chernick</span></strong><span style="color:#433F4D\;">\, Director\,&nbsp\;</span><span style="color:#433F4D\;">NGLCCNY</span><br />\n<span style="font-kerning:none\;"><strong><span style="color:#433F4D\;">Ingrid&nbsp\;</span></strong></span><strong><span style="color:#433F4D\;">Galvez</span></strong><span style="color:#433F4D\;">\, Business Strategist\, Thorp\, LLC and Chair\, Diversity &amp\; Inclusion and Programming\,&nbsp\;</span><span style="color:#433F4D\;">NGLCCNY</span><br />\n<span style="font-kerning:none\;"><strong><span style="color:#433F4D\;">Martin&nbsp\;</span></strong></span><strong><span style="color:#433F4D\;">Cowart</span></strong><span style="color:#433F4D\;">\, Financial Planner\, Fortis Lux Financial</span><br />\n<span style="font-kerning:none\;"><strong><span style="color:#433F4D\;">Tracy Shaw</span></strong></span><span style="color:#433F4D\;">\,&nbsp\;</span><span style="color:#433F4D\;">AVP\,&nbsp\;MassMutual</span></span><br />\n<br />\n<span style="font-family:tahoma\;"><span style="color:#433F4D\;">Insights from a recent Business Owners study and the&nbsp\;NGLCC</span><span style="color:#433F4D\;">&nbsp\;Economic Report&nbsp\;will serve as a springboard for a conversation.</span></span><br />\n&nbsp\;<br />\n<span style="font-family:tahoma\;"><span style="color:#433F4D\;">Coffee and light breakfast will be provided.</span></span></p>\n<style type="text/css">p.p1 {margin: 0.0px 0.0px 0.0px 0.0px\; font: 15.0px Georgia\; color: #433f4d\; -webkit-text-stroke: #433f4d} p.p2 {margin: 0.0px 0.0px 0.0px 0.0px\; font: 15.0px Georgia\; color: #433f4d\; -webkit-text-stroke: #433f4d\; min-height: 17.0px} p.p3 {margin: 0.0px 0.0px 0.0px 0.0px\; font: 11.0px Georgia\; color: #433f4d\; -webkit-text-stroke: #433f4d} span.s1 {font-kerning: none}\n</style>\n
LOCATION:p.p1 {margin: 0.0px 0.0px 0.0px 0.0px\; font: 15.0px Georgia\; color: #433f4d\; -webkit-text-stroke: #433f4d} span.s1 {font-kerning: none} Fortis Lux Financial\, 277 Park Ave\, 44th Floor\, New York\, NY 10172
UID:e.1890.1404
SEQUENCE:3
DTSTAMP:20260424T112329Z
URL:https://business.nglccny.org/events/details/lgbt-business-owners-roundtable-the-value-of-a-supportive-business-community-1404
END:VEVENT

END:VCALENDAR
