BEGIN:VCALENDAR
VERSION:2.0
PRODID:-//ChamberMaster//Event Calendar 2.0//EN
METHOD:PUBLISH
X-PUBLISHED-TTL:P3D
REFRESH-INTERVAL:P3D
CALSCALE:GREGORIAN
BEGIN:VEVENT
DTSTART:20180712T200000Z
DTEND:20180712T220000Z
X-MICROSOFT-CDO-ALLDAYEVENT:FALSE
SUMMARY:LGBTBE Certified Supplier Roundtable: Conquering Conference
DESCRIPTION:In anticipation of the upcoming 2018 NGLCC International Business & Leadership Conference taking place August 14-17\, 2018 in Philadelphia\, we are gathering a few top leaders from our Corporate Partners and seasoned suppliers to lead a discussion about best practices to prepare for Conference and to maximize opportunities at Conference.\n\n \n\nOur discussion leaders currently include:\n\n  Paul Ashley\, Director\, Supplier Diversity\, Bristol-Myers Squibb \n\n  Joy Wong\, Corporate Vice President\, Supplier Diversity\, Corporate Finance\, New York Life Insurance Company\n\n  Stefanie Francis\, Founder of Hootology\n\n  David Ricciardi\, President/Founder of Proximo \n\n \n\nWhether or not you are able to attend Conference this year\, this is a tremendous opportunity to get helpful insider tips to prepare for any type of long-term meeting or conference and a great way to network with some of our Corporate Partners.\n\n \n\nTo ensure you don't miss out on this great educational event\, please RSVP. If you have any questions\, please email Rob Finkelstein\, Supplier Diversity Chair\, nglccNY.\n\n \n\nWe look forward to seeing you on July 12th!
X-ALT-DESC;FMTTYPE=text/html:<div>In anticipation of the upcoming 2018 NGLCC International Business &amp\; Leadership Conference taking place August 14-17\, 2018 in Philadelphia\, we are gathering a few top leaders from our Corporate Partners and seasoned suppliers to lead a discussion about best practices to prepare for Conference and to maximize opportunities at Conference.</div>\n\n<div>&nbsp\;</div>\n\n<div>Our discussion leaders currently include:</div>\n\n<div>&bull\;<span style="white-space:pre"> </span>Paul Ashley\, Director\, Supplier Diversity\, <a href="https://www.bms.com/">Bristol-Myers Squibb&nbsp\;</a></div>\n\n<div>&bull\;<span style="white-space:pre"> </span>Joy Wong\, Corporate Vice President\, Supplier Diversity\, Corporate Finance\, <a href="https://www.newyorklife.com/">New York Life Insurance Company</a></div>\n\n<div>&bull\;<span style="white-space:pre"> </span>Stefanie Francis\, Founder of <a href="https://www.hootology.com/">Hootology</a></div>\n\n<div>&bull\;<span style="white-space:pre"> </span>David Ricciardi\, President/Founder of <a href="http://www.proximo.com/index.html">Proximo</a>&nbsp\;</div>\n\n<div>&nbsp\;</div>\n\n<div>Whether or not you are able to attend Conference this year\, this is a tremendous opportunity to get helpful insider tips to prepare for any type of long-term meeting or conference and a great way to network with some of our Corporate Partners.</div>\n\n<div>&nbsp\;</div>\n\n<div>To ensure you don&#39\;t miss out on this great educational event\, please RSVP. If you have any questions\, please email <a href="mailto:rob@nglccny.org">Rob Finkelstein</a>\, Supplier Diversity Chair\, nglccNY.</div>\n\n<div>&nbsp\;</div>\n\n<div>We look forward to seeing you on July 12th!&nbsp\;</div>\n
LOCATION:Northwell Health 200 West 13th Street New York\, NY 10011
UID:e.1890.1401
SEQUENCE:3
DTSTAMP:20260424T111030Z
URL:https://business.nglccny.org/events/details/lgbtbe-certified-supplier-roundtable-conquering-conference-1401
END:VEVENT

END:VCALENDAR
