BEGIN:VCALENDAR
VERSION:2.0
PRODID:-//ChamberMaster//Event Calendar 2.0//EN
METHOD:PUBLISH
X-PUBLISHED-TTL:P3D
REFRESH-INTERVAL:P3D
CALSCALE:GREGORIAN
BEGIN:VEVENT
DTSTART:20260520T220000Z
DTEND:20260521T010000Z
X-MICROSOFT-CDO-ALLDAYEVENT:FALSE
SUMMARY:M3 with NGLCCNY and Out Professionals
DESCRIPTION:M3:  Members' Monthly Mixer \n\n\n\nWhat's the buzz? Use #NGLCCNYM3 and #LGBTBIZ on all of your social posts!\n\n \n\n\nJoin us IN PERSON for our May 2026 M3: Members' Monthly Mixer\, as we collaborate with Out Professionals! Don't miss this opportunity to forge meaningful connections with members\, corporate partners\, and non-profit leaders.  \n\n\n\nClick Here to Register\, or\, Use the Link Below\n\nhttps://www.eventbrite.com/e/community-connect-meaningful-lgbtq-networking-nyc-tickets-1571583280899?aff=odcleoeventsincollection#location\n\nMeet aspiring professionals and business leaders as two top career-building groups unite for one powerful networking event.\n\n\n\n\n\n\nLGBTQ+ Business and Professionals Networking - All Are Welcome!\n\n\n\nJoin us for an evening of purposeful connection as Out Professionals and the NGLCCNY   National LGBTQ+ & Allied Chamber of Commerce come together to foster community\, camaraderie\, and career growth.\n\n\n\nWhether you're an aspiring professional\, established business owner\, or entrepreneur\, this event offers a welcoming space to meet like-minded individuals\, expand your network\, and learn more about two leading organizations dedicated to LGBTQ+ professional advancement.\n\n\n\n\n\nWe'll gather on the rooftop of Hotel Chantelle in the vibrant Lower East Side. Weather permitting\, the rooftop will be open for a fresh-air networking experience.\n\nWe make networking easier. Color-coded name badges help spark meaningful conversations by connecting you with others in your field or adjacent ones. Business professionals will also be able to identify fellow entrepreneurs and business owners throughout the evening.\n\nCome build connections that matter.\n\n\n\n\n\nNGLCCNY   National LGBTQ+ and Allied Chamber of Commerce New York (NGLCCNY) \n\n\nSupports LGBTQ+\, allied\, and underrepresented businesses across the state\, fostering connections\, opportunity\, and growth. It estimates that equitable investment could support nearly 130\,000 LGBTQ+-owned businesses\, creating over 239\,000 jobs and contributing $58 billion to New York's GDP.\n\n\n\nThe Chamber advances an inclusive marketplace benefiting all New Yorkers. Through its network of Certified LGBT Business Enterprise  (LGBTBE ) suppliers\, members gain visibility\, build relationships with major corporations\, and access new business and contracting opportunities.\n\n \n\n\n\n\nOut Professionals (Out Professionals) \n\n \nIs the leading career-building nonprofit for LGBTQ+ (Lesbian\, Gay\, Bisexual\, Transgender\, and Queer/Questioning) professionals in the USA. We help advance the careers of established and aspiring professionals through meaningful networking\, educational events\, and other life-enriching programming. In 2025\, 11\, 300 aspiring professionals attended events across our city chapter network.\n\nMeaningful networking for us. Across all industries. Throughout careers.
X-ALT-DESC;FMTTYPE=text/html:<div style="margin: 0px\; padding: 0px\; border: 0px transparent\; outline: 0px\; vertical-align: baseline\; list-style-type: none\; color: rgb(0\, 0\, 0)\; font-family: Helvetica\, Arial\, sans-serif\; line-height: 16px\; text-align: center\;">\n<div class="e2ma-p-div" color:="" dejavu="" font-size:="" segoe="" style="margin-bottom: 10px\; line-height: 1.5\;" text-align:="" trebuchet=""><span style="font-family:arial\;"><span style="font-size:16px\;"><strong>M3: &nbsp\;Members&#39\; Monthly Mixer&nbsp\;</strong><br />\n<br />\nWhat&#39\;s the buzz? Use<strong>&nbsp\;#NGLCCNYM3 and #LGBTBIZ</strong>&nbsp\;on all of your social posts!</span></span><br />\n&nbsp\;</div>\n</div>\n\n<p><span style="font-family:arial\;"><span style="font-size:16px\;">Join us IN PERSON for our&nbsp\;May 2026 M3: Members&#39\; Monthly Mixer\, as we collaborate with Out Professionals!&nbsp\;Don&#39\;t miss this opportunity to forge meaningful connections with members\, corporate partners\, and non-profit leaders. &nbsp\;</span><br />\n<br />\n<span style="font-size: 16px\; color: rgb(38\, 27\, 54)\; font-weight: 600\;"><a href="https://www.eventbrite.com/e/community-connect-meaningful-lgbtq-networking-nyc-tickets-1571583280899?aff=odcleoeventsincollection#location">Click Here to Register\, or\, Use the Link Below</a></span></span><br />\nhttps://www.eventbrite.com/e/community-connect-meaningful-lgbtq-networking-nyc-tickets-1571583280899?aff=odcleoeventsincollection#location</p>\n\n<div class="Overview_summaryWrapper__xGQx4" style="box-sizing: border-box\; padding: 0px\; margin: 0px\; position: relative\; color: rgb(38\, 27\, 54)\; font-family: &quot\;Neue Plak&quot\;\, -apple-system\, BlinkMacSystemFont\, Roboto\, &quot\;Helvetica Neue&quot\;\, Helvetica\, Tahoma\, Arial\, sans-serif\; font-size: medium\;"><span style="font-family:arial\;"><span style="font-size: 16px\; color: rgb(88\, 81\, 99)\; letter-spacing: 0.1px\;">Meet aspiring professionals and business leaders as two top career-building groups unite for one powerful networking event.</span></span></div>\n\n<div class="AboutThisEventEmbedded_container__wdFiD" style="box-sizing: border-box\; padding: 0px\; margin: 0px\; color: rgb(38\, 27\, 54)\; font-family: &quot\;Neue Plak&quot\;\, -apple-system\, BlinkMacSystemFont\, Roboto\, &quot\;Helvetica Neue&quot\;\, Helvetica\, Tahoma\, Arial\, sans-serif\; font-size: medium\;">\n<div class="StructuredModuleRenderer_structuredContent__k7mNB StructuredModuleRenderer_text__GaXOv" data-testid="text-content" style="box-sizing: border-box\; padding: 0px\; margin: 0px\; color: rgb(88\, 81\, 99)\; align-self: stretch\; overflow: hidden\; text-overflow: ellipsis\; line-height: 23.94px\; letter-spacing: 0.1px\; font-size: 18px\;">\n<div style="box-sizing: border-box\; padding: 0px\; margin: 0px\;">\n<p style="box-sizing: border-box\; padding: 0px 0px 12px\; margin: 0px\;"><br />\n<span style="font-family:arial\;"><span style="font-size: 16px\; font-weight: 600\; letter-spacing: 0.1px\;">LGBTQ+ Business and Professionals Networking - All Are Welcome!</span><br />\n<br />\n<span style="font-size:16px\;">Join us for an evening of purposeful connection as Out Professionals and the NGLCCNY &ndash\; National LGBTQ+ &amp\; Allied Chamber of Commerce come together to foster community\, camaraderie\, and career growth.</span><br />\n<br />\n<span style="font-size:16px\;">Whether you&rsquo\;re an aspiring professional\, established business owner\, or entrepreneur\, this event offers a welcoming space to meet like-minded individuals\, expand your network\, and learn more about two leading organizations dedicated to LGBTQ+ professional advancement.</span></span></p>\n</div>\n</div>\n\n<div class="StructuredModuleRenderer_structuredContent__k7mNB StructuredModuleRenderer_text__GaXOv" data-testid="text-content" style="box-sizing: border-box\; padding: 0px\; margin: 0px\; color: rgb(88\, 81\, 99)\; align-self: stretch\; overflow: hidden\; text-overflow: ellipsis\; line-height: 23.94px\; letter-spacing: 0.1px\; font-size: 18px\;">\n<div style="box-sizing: border-box\; padding: 0px\; margin: 0px\;">\n<p style="box-sizing: border-box\; padding: 0px 0px 12px\; margin: 12px 0px 0px\;"><span style="font-family:arial\;"><span style="font-size:16px\;">We&rsquo\;ll gather on the rooftop of Hotel Chantelle&nbsp\;in the vibrant Lower East Side. Weather permitting\, the rooftop will be open for a fresh-air networking experience.</span></span></p>\n\n<p style="box-sizing: border-box\; padding: 0px 0px 12px\; margin: 12px 0px 0px\;"><span style="font-family:arial\;"><span style="font-size:16px\;"><span style="box-sizing: border-box\; padding: 0px\; margin: 0px\; font-weight: 600\;">We make networking easier.&nbsp\;</span>Color-coded name badges help spark meaningful conversations by connecting you with others in your field or adjacent ones. Business professionals will also be able to identify fellow entrepreneurs and business owners throughout the evening.</span></span></p>\n\n<p style="box-sizing: border-box\; padding: 0px 0px 12px\; margin: 12px 0px 0px\;"><span style="font-family:arial\;"><span style="font-size:16px\;"><span style="box-sizing: border-box\; padding: 0px\; margin: 0px\; font-weight: 600\;">Come build connections that matter.</span></span></span></p>\n</div>\n</div>\n\n<div class="StructuredModuleRenderer_structuredContent__k7mNB StructuredModuleRenderer_text__GaXOv" data-testid="text-content" style="box-sizing: border-box\; padding: 0px\; margin: 0px\; color: rgb(88\, 81\, 99)\; align-self: stretch\; overflow: hidden\; text-overflow: ellipsis\; line-height: 23.94px\; letter-spacing: 0.1px\; font-size: 18px\;">\n<div style="box-sizing: border-box\; padding: 0px\; margin: 0px\;">\n<h3 style="box-sizing: border-box\; padding: 0px\; margin: 0px\; font-weight: 600\; font-size: 20px\;"><span style="font-family:arial\;"><span style="font-size:16px\;"><span style="box-sizing: border-box\; padding: 0px\; margin: 0px\;">NGLCCNY &bull\; National LGBTQ+ and Allied Chamber of Commerce New York (</span></span><span style="font-size:16px\;"><a data-msys-clicktrack="0" href="https://www.nglccny.org/" rel="nofollow noopener noreferrer" style="box-sizing: border-box\; padding: 0px\; margin: 0px\; color: rgb(54\, 89\, 227)\;" target="_blank" title="https://www.nglccny.org/"><span style="box-sizing: border-box\; padding: 0px\; margin: 0px\; font-weight: 600\;">NGLCCNY</span></a>)<span style="box-sizing: border-box\; padding: 0px\; margin: 0px\; font-weight: 600\;">&nbsp\;</span></span></span></h3>\n<br />\n<span style="font-family:arial\;"><span style="font-size:16px\;">Supports LGBTQ+\, allied\, and underrepresented businesses across the state\, fostering connections\, opportunity\, and growth. It estimates that equitable investment could support nearly 130\,000 LGBTQ+-owned businesses\, creating over 239\,000 jobs and contributing $58 billion to New York&rsquo\;s GDP.<br />\n<br />\nThe Chamber advances an inclusive marketplace benefiting all New Yorkers. Through its network of Certified LGBT Business Enterprise&reg\; (LGBTBE&reg\;) suppliers\, members gain visibility\, build relationships with major corporations\, and access new business and contracting opportunities.</span></span><br />\n&nbsp\;</div>\n</div>\n\n<div class="StructuredModuleRenderer_structuredContent__k7mNB StructuredModuleRenderer_text__GaXOv" data-testid="text-content" style="box-sizing: border-box\; padding: 0px\; margin: 0px\; color: rgb(88\, 81\, 99)\; align-self: stretch\; overflow: hidden\; text-overflow: ellipsis\; line-height: 23.94px\; letter-spacing: 0.1px\; font-size: 18px\;">\n<div style="box-sizing: border-box\; padding: 0px\; margin: 0px\;">\n<h3 style="box-sizing: border-box\; padding: 0px\; margin: 0px\; font-weight: 600\; font-size: 20px\;"><span style="font-family:arial\;"><span style="font-size:16px\;"><span style="box-sizing: border-box\; padding: 0px\; margin: 0px\;">Out Professionals (</span><a data-msys-clicktrack="0" href="https://www.outprofessionals.org/" rel="nofollow noopener noreferrer" style="box-sizing: border-box\; padding: 0px\; margin: 0px\; color: rgb(54\, 89\, 227)\;" target="_blank" title="https://www.outprofessionals.org/"><span style="box-sizing: border-box\; padding: 0px\; margin: 0px\; font-weight: 600\;">Out Professionals</span></a>)<span style="box-sizing: border-box\; padding: 0px\; margin: 0px\; font-weight: 600\;">&nbsp\;</span></span></span><br />\n&nbsp\;</h3>\n<span style="font-size:16px\;"><span style="font-family:arial\;">Is the leading career-building nonprofit for LGBTQ+ (Lesbian\, Gay\, Bisexual\, Transgender\, and Queer/Questioning) professionals in the USA. We help advance the careers of established and aspiring professionals through meaningful networking\, educational events\, and other life-enriching programming. In 2025\, 11\, 300 aspiring professionals attended events across our city chapter network.<br />\nMeaningful networking for us. Across all industries. Throughout careers.</span></span></div>\n</div>\n\n<div class="StructuredModuleRenderer_structuredContent__k7mNB StructuredModuleRenderer_text__GaXOv" data-testid="text-content" style="box-sizing: border-box\; padding: 0px\; margin: 0px\; color: rgb(88\, 81\, 99)\; align-self: stretch\; overflow: hidden\; text-overflow: ellipsis\; line-height: 23.94px\; letter-spacing: 0.1px\; font-size: 18px\;">\n<div style="box-sizing: border-box\; padding: 0px\; margin: 0px\;">&nbsp\;</div>\n</div>\n</div>\n
LOCATION:Hotel Chantelle - Rooftop 92 Ludlow Street\, New York\, NY 10002
UID:e.1890.1992
SEQUENCE:3
DTSTAMP:20260420T225431Z
URL:https://business.nglccny.org/events/details/m3-with-nglccny-and-out-professionals-1992
END:VEVENT

END:VCALENDAR
