BEGIN:VCALENDAR
VERSION:2.0
PRODID:-//ChamberMaster//Event Calendar 2.0//EN
METHOD:PUBLISH
X-PUBLISHED-TTL:P3D
REFRESH-INTERVAL:P3D
CALSCALE:GREGORIAN
BEGIN:VEVENT
DTSTART:20200311T223000Z
DTEND:20200312T003000Z
X-MICROSOFT-CDO-ALLDAYEVENT:FALSE
SUMMARY:March Long Island Members' Mixer: CANCELED
DESCRIPTION:This event has been canceled.\n\n\n\nDue to growing actions from many of nglccNY's corporate partners and stakeholders related to the spreading of the coronavirus (COVID-19)\, the March Long Island Members' Mixer has been canceled. As many of our friends and cohorts suspend external travel and events\, we too are practicing our own due diligence as the health of our members\, stakeholders\, and team are our primary concern.\n\n\n\nWhat is nglccNY?\n\n \n\nThe National LGBT Chamber of Commerce New York (nglccNY) provides its members with transformational networking and educational opportunities that increase the financial\, intellectual\, and social capital of the Lesbian\, Gay\, Bisexual and Transgender business community.\n\nAs the New York LGBT & Allied Business Network of the National LGBT Chamber of Commerce\, nglccNY provides certification opportunities for LGBT Business Enterprises (LGBTBEs)\, opening up countless contracting and procurement opportunities with corporations and governments nationwide.\n\n\n\nAbout the National LGBT Chamber of Commerce:\n\n\n\nThe National LGBT Chamber of Commerce (NGLCC)\, the business voice of the LGBT community\, is the only national advocacy organization dedicated to expanding economic opportunities for the LGBT business community.\n\n \n\nNGLCC is the exclusive third-party certifying body for LGBT Business Enterprises (LGBTBEs). Over 1/3 of Fortune 500 recognize this certification and partner with NGLCC to create fully LGBT-inclusive supply-chains.\n\n \n\nThe LGBT business owners NGLCC represents generate over $1.7 trillion in economic impact\, create jobs and innovate business solutions nationwide. Additionally\, NGLCC is the leading public policy advocate working to include certified LGBT businesses in procurement opportunities at the federal\, state and local level. NGLCC Global is expanding its reach to five continents\, bridging economic opportunity and LGBTI human rights worldwide.
X-ALT-DESC;FMTTYPE=text/html:<div style="text-align: center\;"><br />\n<span style="font-size:14px\;"><span style="color:#800080\;"><strong><span style="font-size:18px\;"><span style="font-size:22px\;">This event has been canceled.</span></span></strong></span></span></div>\n\n<div><br />\nDue to growing actions from many of nglccNY&rsquo\;s corporate partners and stakeholders related to the spreading of the coronavirus (COVID-19)\, the <strong>March Long Island Members&#39\; Mixer has been canceled</strong>. As many of our friends and cohorts suspend external travel and events\, we too are practicing our own due diligence as the health of our members\, stakeholders\, and team are our primary concern.<br />\n<br />\n<strong><u>What is nglccNY?</u></strong><br />\n&nbsp\;<br />\nThe National LGBT Chamber of Commerce New York (nglccNY) provides its members with transformational networking and educational opportunities that increase the financial\, intellectual\, and social capital of the Lesbian\, Gay\, Bisexual and Transgender business community.<br />\nAs the New York LGBT &amp\; Allied Business Network of the National LGBT Chamber of Commerce\, nglccNY provides certification opportunities for LGBT Business Enterprises (LGBTBEs)\, opening up countless contracting and procurement opportunities with corporations and governments nationwide.<br />\n<br />\n<u><strong>About the National LGBT Chamber of Commerce:</strong></u><br />\n<br />\nThe National LGBT Chamber of Commerce (NGLCC)\, the business voice of the LGBT community\, is the only national advocacy organization dedicated to expanding economic opportunities for the LGBT business community.<br />\n&nbsp\;<br />\nNGLCC is the exclusive third-party certifying body for LGBT Business Enterprises (LGBTBEs). Over 1/3 of Fortune 500 recognize this certification and partner with NGLCC to create fully LGBT-inclusive supply-chains.<br />\n&nbsp\;<br />\nThe LGBT business owners NGLCC represents generate over $1.7 trillion in economic impact\, create jobs and innovate business solutions nationwide. Additionally\, NGLCC is the leading public policy advocate working to include certified LGBT businesses in procurement opportunities at the federal\, state and local level. NGLCC Global is expanding its reach to five continents\, bridging economic opportunity and LGBTI human rights worldwide.</div>\n
LOCATION:Vishnick McGovern Mizilio LLP 3000 Marcus Avenue Suite 1E9 Lake Success\, NY 11042
UID:e.1890.1488
SEQUENCE:3
DTSTAMP:20260423T014153Z
URL:https://business.nglccny.org/events/details/march-long-island-members-mixer-canceled-1488
END:VEVENT

END:VCALENDAR
