BEGIN:VCALENDAR
VERSION:2.0
PRODID:-//ChamberMaster//Event Calendar 2.0//EN
METHOD:PUBLISH
X-PUBLISHED-TTL:P3D
REFRESH-INTERVAL:P3D
CALSCALE:GREGORIAN
BEGIN:VEVENT
DTSTART:20220225T200000Z
DTEND:20220225T230000Z
X-MICROSOFT-CDO-ALLDAYEVENT:FALSE
SUMMARY:NGLCC LGBT Sip & Pitch Fridays: Black History Month Edition | February 25\, 2022
DESCRIPTION:Click HERE to register for this webinar.\n\n\n\nNGLCC invites you to take advantage of what we do best: bring business leaders together and create new relationships. Even in this time of social distancing\, virtual meetings allow us to be closer than ever.\n\n\n\nSip & Pitch is a chance to informally present your business to a panel of experts and your fellow business owners for positive\, constructive feedback and new ideas.  If you have a 5 minute (or less) presentation with all the bells and whistles: great! If not: that's great\, too! Simply bring your "elevator pitch" and any messaging you'd like to work on with our experts. This is an open forum! \n\n\n\nRemember: You do not need to present a pitch to join us! \n\n\n\nPlease contact webinars@nglcc.org with any questions.
X-ALT-DESC;FMTTYPE=text/html:<br />\n<strong>Click <a href="https://us02web.zoom.us/meeting/register/tZApd-mrqjstHdYH147ZOrvzMHaA2WL0G9yC">HERE</a> to register for this webinar.</strong><br />\n<br />\nNGLCC invites you to take advantage of what we do best: bring business leaders together and create new relationships. Even in this time of social distancing\, virtual meetings allow us to be closer than ever.<br />\n<br />\nSip &amp\; Pitch is a chance to informally present your business to a panel of experts and your fellow business owners for positive\, constructive feedback and new ideas.&nbsp\; If you have a 5 minute (or less) presentation with all the bells and whistles: great! If not: that&rsquo\;s great\, too! Simply bring your &ldquo\;elevator pitch&rdquo\; and any messaging you&rsquo\;d like to work on with our experts. This is an open forum!&nbsp\;<br />\n<br />\n<strong>Remember: You do not need to present a pitch to join us!&nbsp\;</strong><br />\n<br />\nPlease contact <a href="mailto:webinars@nglcc.org">webinars@nglcc.org</a>&nbsp\;with any questions.
LOCATION:Click here to register.
UID:e.1890.1572
SEQUENCE:3
DTSTAMP:20260420T170523Z
URL:https://business.nglccny.org/events/details/nglcc-lgbt-sip-pitch-fridays-black-history-month-edition-february-25-2022-1572
END:VEVENT

END:VCALENDAR
