BEGIN:VCALENDAR
VERSION:2.0
PRODID:-//ChamberMaster//Event Calendar 2.0//EN
METHOD:PUBLISH
X-PUBLISHED-TTL:P3D
REFRESH-INTERVAL:P3D
CALSCALE:GREGORIAN
BEGIN:VEVENT
DTSTART:20180816T000000Z
DTEND:20180816T020000Z
X-MICROSOFT-CDO-ALLDAYEVENT:FALSE
SUMMARY:NGLCC Northeast Chamber Mixer
DESCRIPTION:The NGLCC Affiliate Chamber Council (ACC) Northeast Region chamber leaders invite you to mix and mingle with your fellow NGLCC 2018 International Business & Leadership Conference attendees from the area. Everyone is welcome and feel free to bring your friends! Join us in the private upstairs of Field House\, directly across from the host hotel\, the Philadelphia Downtown Marriott.\n\n\n\nThis informal celebration of NGLCC LGBT business community success in the region is part of the Wednesday evening "Dine Out!" program\, encouraging #NGLCC18 attendees to enjoy the many LGBT-owned and LGBT-friendly bars and restaurants near the Conference. Many of these businesses are members or supporters of the Independence Business Alliance. \n\n\n\nRSVP for our Facebook event here!
X-ALT-DESC;FMTTYPE=text/html:<span style="font-size:12px\;"><span style="font-family:verdana\;"><span style="color: rgb(29\, 33\, 41)\;">The NGLCC Affiliate Chamber Council (ACC) Northeast Region chamber leaders invite you to mix and mingle with your fellow</span><span style="color: rgb(29\, 33\, 41)\;">&nbsp\;</span><a href="http://nglcc.org/nglcc18">NGLCC 2018 International Business &amp\; Leadership Conference</a><span style="color: rgb(29\, 33\, 41)\;">&nbsp\;attendees from the area. Everyone is welcome and feel free to bring your friends! Join us in the private upstairs of&nbsp\;</span><a href="https://www.facebook.com/pg/FieldHousePHL/about/?ref=page_internal">Field House</a><span style="color: rgb(29\, 33\, 41)\;">\, directly across from the host hotel\,&nbsp\;the Philadelphia Downtown Marriott.</span><br style="color: rgb(29\, 33\, 41)\; font-family: system-ui\, -apple-system\, system-ui\, &quot\;.SFNSText-Regular&quot\;\, sans-serif\; font-size: 14px\;" />\n<br style="color: rgb(29\, 33\, 41)\; font-family: system-ui\, -apple-system\, system-ui\, &quot\;.SFNSText-Regular&quot\;\, sans-serif\; font-size: 14px\;" />\n<span style="color: rgb(29\, 33\, 41)\;">This informal celebration of NGLCC LGBT business community success in the region is part of the Wednesday evening &quot\;Dine Out!&quot\; program\, encouraging&nbsp\;</span>#NGLCC18<span style="color: rgb(29\, 33\, 41)\;">&nbsp\;attendees to enjoy the many LGBT-owned and LGBT-friendly bars and restaurants near the Conference. Many of these businesses are members or supporters of the&nbsp\;</span><a href="https://www.thinkiba.com/">Independence Business Alliance</a><span style="color: rgb(29\, 33\, 41)\;">.&nbsp\;<br />\n<br />\nRSVP for our Facebook event <a href="https://www.facebook.com/events/1868334186796923/">here</a>!&nbsp\;</span></span></span>
LOCATION:Field House 1150 Filbert St Philadelphia\, Pennsylvania
UID:e.1890.1407
SEQUENCE:3
DTSTAMP:20260424T090413Z
URL:https://business.nglccny.org/events/details/nglcc-northeast-chamber-mixer-1407
END:VEVENT

END:VCALENDAR
