BEGIN:VCALENDAR
VERSION:2.0
PRODID:-//ChamberMaster//Event Calendar 2.0//EN
METHOD:PUBLISH
X-PUBLISHED-TTL:P3D
REFRESH-INTERVAL:P3D
CALSCALE:GREGORIAN
BEGIN:VEVENT
DTSTART:20200909T180000Z
DTEND:20200909T190000Z
X-MICROSOFT-CDO-ALLDAYEVENT:FALSE
SUMMARY:NGLCC Webinar Wednesdays: Special Broadcast: Cybersecurity and Other Essentials for Contracting
DESCRIPTION:Click HERE to register for this webinar.\n\n\n\nBy popular request for this important topic:\n\nAs the FCC says: whether a company is thinking of adopting cloud computing or just using email and maintaining a website\, cybersecurity should be a part of the plan. Theft of digital information has become the most commonly reported fraud\, surpassing physical theft. Every business that uses the Internet is responsible for creating a culture of security that will enhance business and consumer confidence. Join Leidos and fellow NGLCC partners for an in-depth look at the what you must know about cybersecurity and technological competency to be competitive it today's dynamic procurement market.\n\n\n\nPlease contact webinars@nglcc.org with any questions.
X-ALT-DESC;FMTTYPE=text/html:<strong>Click <a href="https://us02web.zoom.us/webinar/register/WN_zDHerar8SXmsGur00Fokyw">HERE</a> to register for this webinar.</strong><br />\n<br />\n<strong>By popular request for this important topic:</strong><br />\nAs the FCC says: whether a company is thinking of adopting cloud computing or just using email and maintaining a website\, cybersecurity should be a part of the plan. Theft of digital information has become the most commonly reported fraud\, surpassing physical theft. Every business that uses the Internet is responsible for creating a culture of security that will enhance business and consumer confidence. Join Leidos and fellow NGLCC partners for an in-depth look at the what you must know about cybersecurity and technological competency to be competitive it today&#39\;s dynamic procurement market.<br />\n<br />\nPlease contact <a href="mailto:webinars@nglcc.org">webinars@nglcc.org</a> with any questions.
LOCATION:Click here to register.
UID:e.1890.1533
SEQUENCE:3
DTSTAMP:20260422T160350Z
URL:https://business.nglccny.org/events/details/nglcc-webinar-wednesdays-special-broadcast-cybersecurity-and-other-essentials-for-contracting-1533
END:VEVENT

END:VCALENDAR
