BEGIN:VCALENDAR
VERSION:2.0
PRODID:-//ChamberMaster//Event Calendar 2.0//EN
METHOD:PUBLISH
X-PUBLISHED-TTL:P3D
REFRESH-INTERVAL:P3D
CALSCALE:GREGORIAN
BEGIN:VEVENT
DTSTART:20181009T223000Z
DTEND:20181010T023000Z
X-MICROSOFT-CDO-ALLDAYEVENT:FALSE
SUMMARY:NGLCCNY 10th Anniversary Gala
DESCRIPTION:NGLCCNY is celebrating 10 years as the premier LGBT business network in New York City and as the regional office of the National LGBT Chamber of Commerce (NGLCC)! And with over 500 members and nearly 200 NGLCC certified LGBT Business Enterprises locally\, we have hundreds of reasons to celebrate!  \n\n\n\nJoin us for a once-in-a-lifetime celebration of the industry-leading\, innovative companies that make nglccNY one of the most active and successful hubs for LGBT business owners in the world.   \n\n\n\nThe #NGLCCNY10 Gala is presented by JPMorgan Chase & Co.\n\n \n\n#NGLCCNY10 IS SOLD OUT!!!!
X-ALT-DESC;FMTTYPE=text/html:<div class="page" style="caret-color: rgb(0\, 0\, 0)\; color: rgb(0\, 0\, 0)\; font-family: -webkit-standard\;" title="Page 2">\n<div class="section">\n<div class="layoutArea">\n<div class="column">\n<p><span style="font-family:verdana\;">NGLCCNY is celebrating 10 years as the premier LGBT business network in New York City&nbsp\;and as the regional office of the National LGBT Chamber of Commerce (NGLCC)! And&nbsp\;with over 500 members and nearly 200 NGLCC certified LGBT Business Enterprises locally\, we have hundreds of reasons to celebrate! &nbsp\;<br />\n<br />\nJoin us for a&nbsp\;once-in-a-lifetime celebration of the industry-leading\, innovative companies that make&nbsp\;nglccNY one of the most active and successful hubs for LGBT business owners in the world. &nbsp\;&nbsp\;<br />\n<br />\nThe #NGLCCNY10 Gala&nbsp\;is presented by <strong>JPMorgan Chase &amp\; Co.</strong></span><br />\n&nbsp\;</p>\n\n<p style="text-align: center\;"><strong><span style="font-size:24px\;"><span style="font-family:verdana\;"><a href="https://one.bidpal.net/nglccny10ya/welcome">#</a>NGLCCNY10 IS SOLD OUT!!!!</span></span></strong></p>\n</div>\n</div>\n</div>\n</div>\n
LOCATION:TRIBECA 360 10 Desbrosses St New York\, NY 10013 DRESS CODE: Cocktail Fabulous!
UID:e.1890.1406
SEQUENCE:3
DTSTAMP:20260424T051552Z
URL:https://business.nglccny.org/events/details/nglccny-10th-anniversary-gala-1406
END:VEVENT

END:VCALENDAR
