BEGIN:VCALENDAR
VERSION:2.0
PRODID:-//ChamberMaster//Event Calendar 2.0//EN
METHOD:PUBLISH
X-PUBLISHED-TTL:P3D
REFRESH-INTERVAL:P3D
CALSCALE:GREGORIAN
BEGIN:VEVENT
DTSTART:20220602T210000Z
DTEND:20220603T010000Z
X-MICROSOFT-CDO-ALLDAYEVENT:FALSE
SUMMARY:NJPCC x NGLCCNY - Pride Month Kickoff Extravaganza!
DESCRIPTION:CLICK HERE TO REGISTER!\n\n\n\nJoin NJPCC and our sister affiliate\, NGLCCNY\, for an unforgettable Pride Month Kickoff Extravaganza at the Hyatt Regency Jersey City on the Hudson on June 2nd! Enjoy passed hors d'oeuvres\, free signature cocktails (provided by Saint Luna Spirits) and discounted cocktails (provided by Tito's)\, and fabulous entertainment - all of this with a spectacular view of the NYC Skyline in the incredible Manhattan Ballroom. \n\n\n\nEntertainment:\n\n--Show-stopping numbers performed by RuPaul's Drag Race Season 13 contestant and New Jersey native\, Liv Lux Miyake-Mugler!\n\n--Hosting and performances by SNL Crooner\, Robert Bannon! \n\n--Music Entertainment by DJ Mike Cruz!\n\n\n\n**Get your ticket for the VIP Reception and Meet and Greet from 5pm-6pm! $115 for NJPCC  and NGLCCNY Members\, $165 for Future Members. This ticket includes photo opportunities with Liv Lux Miyake-Mugler and Robert Bannon and gets you Open Bar access for the entire evening!**\n\n\n\nRSVP's are Required! \n\n \n\nSAFETY CONSIDERATIONS\n\n\n	This event will be held indoors. \n	Face masks for fully vaccinated individuals are not required.\n	Face masks for non-fully vaccinated individuals are strongly recommended.\n	All attendees should still observe social distancing\, when possible.\n	The Chamber will provide complimentary hand sanitizer and face masks for all attendees.\n	PLEASE BE RESPECTFUL OF ALL ATTENDEE'S COMFORT LEVELS IN RETURNING TO IN-PERSON NETWORKING.\n	The Chamber's Board of Directors has considered at-length the safety and well-being of our members and supporters in returning to in-person networking. Given current CDC guidelines\, consistently rising levels of state vaccinations\, other networking groups returning to in-person events\, and having polled our membership (more than 85% of whom were comfortable with returning)\, we are confident in our decision to move forward with in-person events. Questions can be directed to info@njpridechamber.org.
X-ALT-DESC;FMTTYPE=text/html:<p style="box-sizing: border-box\; overflow-wrap: break-word\; margin: 0px 0px 1rem\; font-family: URWDIN-Regular\; color: rgb(73\, 73\, 73)\; font-size: 16px\;"><br />\n<a href="https://newjerseylgbt.chambermaster.com/eventregistration/register/1219"><span style="font-size:20px\;"><strong>CLICK HERE TO REGISTER!</strong></span></a><br />\n<br />\nJoin NJPCC and our sister affiliate\,&nbsp\;<a href="http://www.nglccny.org/" style="box-sizing: border-box\; background-color: transparent\; color: rgb(89\, 50\, 143)\; text-decoration-line: none\; overflow-wrap: break-word\;">NGLCCNY</a>\, for an unforgettable Pride Month Kickoff Extravaganza at the&nbsp\;<a href="https://www.hyatt.com/en-US/hotel/new-jersey/hyatt-regency-jersey-city-on-the-hudson/newjp" style="box-sizing: border-box\; background-color: transparent\; color: rgb(89\, 50\, 143)\; text-decoration-line: none\; overflow-wrap: break-word\;">Hyatt Regency Jersey City on the Hudson</a>&nbsp\;on June 2nd! Enjoy passed hors d&#39\;oeuvres\, free signature cocktails (provided by Saint Luna Spirits) and discounted cocktails (provided by Tito&#39\;s)\, and fabulous entertainment -&nbsp\;all of this with a spectacular view of the NYC Skyline in the incredible Manhattan Ballroom.&nbsp\;<br style="box-sizing: border-box\;" />\n<br style="box-sizing: border-box\;" />\n<u style="box-sizing: border-box\;"><span style="box-sizing: border-box\; font-weight: bolder\;">Entertainment:</span></u><br style="box-sizing: border-box\;" />\n--Show-stopping numbers performed by&nbsp\;<a href="https://rupaulsdragrace.fandom.com/wiki/Olivia_Lux" style="box-sizing: border-box\; background-color: transparent\; color: rgb(89\, 50\, 143)\; text-decoration-line: none\; overflow-wrap: break-word\;">RuPaul&#39\;s Drag Race Season 13 contestant and New Jersey native\, Liv Lux Miyake-Mugler</a>!<br style="box-sizing: border-box\;" />\n--Hosting and performances by&nbsp\;<a href="https://url.emailprotection.link/?bfdhcCk5tYCvShsf3TOhog2ilYM-i4c1BEicjnbvR2lHl3EpJShUKhJ0iIhLVv-EBa7O2MVoU983vuJFNfYiXpjGeJuDiNxOWVMzFBmsUxMSsluO00l8Kza54Don1cgwp5Tmclx3ZscR1ZsYqEeMtZjN2rvEc20kbpxGJAyo5fQfaE7mA1pcKBRw4UR9UjIaD8FaEOxTIPu1XM4KzpgmG4A387s3Zj4z_DekAaVxSCQfD3RTNHNX8zzH1mdbikDBdub7W-JX_GDcaele8MvmiEzwsu7JZMpdWTKfSAdMEfktn1zbsYLYTJ3OVkFUREOUSNT2XIG2Pd-wxlGfNwiaV8cIPnBX3yCKNw9ZopLkup1X_HxI_dUbYP-pw8vZMBEPR4N_vKoFr3-XjckMjUqaht57R4ySaQqKUdD_NpzwrTu6bIgfvt_yUliZRq8HKDyTPB7oz8spQY9QKVc7n6f2m5g~~" style="box-sizing: border-box\; background-color: transparent\; color: rgb(89\, 50\, 143)\; text-decoration-line: none\; overflow-wrap: break-word\;">SNL Crooner\, Robert Bannon</a>!&nbsp\;<br style="box-sizing: border-box\;" />\n--Music Entertainment by&nbsp\;<a href="https://www.facebook.com/djmikecruz" style="box-sizing: border-box\; background-color: transparent\; color: rgb(89\, 50\, 143)\; text-decoration-line: none\; overflow-wrap: break-word\;">DJ Mike Cruz</a>!<br style="box-sizing: border-box\;" />\n<br style="box-sizing: border-box\;" />\n**Get your ticket for the&nbsp\;<span style="box-sizing: border-box\; font-weight: bolder\;"><u style="box-sizing: border-box\;">VIP Reception and Meet and Greet from 5pm-6pm!</u></span>&nbsp\;$115 for NJPCC&nbsp\; and NGLCCNY Members\, $165 for Future Members.&nbsp\;This ticket includes<span style="box-sizing: border-box\; font-weight: bolder\;">&nbsp\;photo opportunities with Liv Lux Miyake-Mugler and Robert Bannon</span>&nbsp\;and gets you&nbsp\;<span style="box-sizing: border-box\; font-weight: bolder\;">Open Bar access</span>&nbsp\;for the entire evening!**<br style="box-sizing: border-box\;" />\n<br style="box-sizing: border-box\;" />\nRSVP&#39\;s are Required!&nbsp\;<br style="box-sizing: border-box\;" />\n&nbsp\;</p>\n\n<p style="box-sizing: border-box\; overflow-wrap: break-word\; margin: 0px 0px 1rem\; font-family: URWDIN-Regular\; color: rgb(73\, 73\, 73)\; font-size: 16px\;"><span style="box-sizing: border-box\; font-weight: bolder\;"><u style="box-sizing: border-box\;">SAFETY CONSIDERATIONS</u></span></p>\n\n<ul style="box-sizing: border-box\; overflow-wrap: break-word\; margin-top: 0px\; margin-bottom: 1rem\; outline: 0px\; color: rgb(73\, 73\, 73)\; font-family: URWDIN-Regular\, Arial\, Helvetica\, sans-serif\; font-size: 16px\;">\n	<li style="box-sizing: border-box\; margin: 0px\;">This event will be held&nbsp\;indoors.&nbsp\;</li>\n	<li style="box-sizing: border-box\; margin: 0px\;">Face masks for fully vaccinated individuals are not required.</li>\n	<li style="box-sizing: border-box\; margin: 0px\;">Face masks for non-fully vaccinated individuals are strongly recommended.</li>\n	<li style="box-sizing: border-box\; margin: 0px\;">All attendees should still observe social distancing\, when possible.</li>\n	<li style="box-sizing: border-box\; margin: 0px\;">The Chamber will provide complimentary hand sanitizer and face masks for all attendees.</li>\n	<li style="box-sizing: border-box\; margin: 0px\;"><u style="box-sizing: border-box\;"><span style="box-sizing: border-box\; font-weight: bolder\;">PLEASE BE RESPECTFUL OF ALL ATTENDEE&#39\;S COMFORT LEVELS IN RETURNING TO IN-PERSON NETWORKING.</span></u></li>\n	<li style="box-sizing: border-box\; margin: 0px\; outline: 0px\;">The Chamber&#39\;s Board of Directors has considered&nbsp\;at-length the safety and well-being of our members and supporters in returning to in-person networking. Given current CDC guidelines\, consistently rising levels of state vaccinations\, other networking groups returning to in-person events\, and having polled our membership (more than 85% of whom were comfortable with returning)\, we are confident in our decision to move forward with in-person events. Questions can be directed to info@njpridechamber.org.&nbsp\;</li>\n</ul>\n
LOCATION:Hyatt Regency Jersey City on the Hudson\, Manhattan Ballroom 2 Exchange Pl\, Jersey City\, NJ 07302
UID:e.1890.1585
SEQUENCE:3
DTSTAMP:20260420T090234Z
URL:https://business.nglccny.org/events/details/njpcc-x-nglccny-pride-month-kickoff-extravaganza-1585
END:VEVENT

END:VCALENDAR
