BEGIN:VCALENDAR
VERSION:2.0
PRODID:-//ChamberMaster//Event Calendar 2.0//EN
METHOD:PUBLISH
X-PUBLISHED-TTL:P3D
REFRESH-INTERVAL:P3D
CALSCALE:GREGORIAN
BEGIN:VEVENT
DTSTART:20190623T160000Z
DTEND:20190623T200000Z
X-MICROSOFT-CDO-ALLDAYEVENT:FALSE
SUMMARY:Pride Luminaries Brunch
DESCRIPTION:Help us honor inspiring LGBTQIA+ business leaders at this exclusive brunch event. Now entering its seventh year\, NYC Pride and the National LGBT Chamber of Commerce are excited to welcome all to another delicious year. The Pride Luminaries Brunch celebrates business leaders that have made an impact on LGBTQIA+ equality in the workplace throughout the year.\n\n\n\nSo dress to impress and join industry insiders\, media mavens and proud politicians for what will be the brunch affair of the season.\n\n\n\nTickets include four-hour unlimited open bar\, VIP gift bag\, and delicious brunch buffet.\n\nBuy Your Ticket\n\nProceeds go to benefit NYC Pride and its annual free events such as Youth Pride\, Family Movie Night\, The March\, PrideFest\, and more!\n\n\n\nDress: Brunch Chic
X-ALT-DESC;FMTTYPE=text/html:<p>Help us honor inspiring LGBTQIA+ business leaders at this exclusive brunch event. Now entering its seventh year\, NYC Pride and the National LGBT Chamber of Commerce are excited to welcome all to another delicious year. The Pride Luminaries Brunch celebrates business leaders that have made an impact on LGBTQIA+ equality in the workplace throughout the year.<br />\n<br />\nSo dress to impress and join industry insiders\, media mavens and proud politicians for what will be the brunch affair of the season.<br />\n<br />\nTickets include four-hour unlimited open bar\, VIP gift bag\, and delicious brunch buffet.</p>\n\n<h1 style="text-align: center\;"><a href="https://2019-worldpride-stonewall50.nycpride.org/events/pride-luminaries-brunch/">Buy Your Ticket</a></h1>\n\n<p>Proceeds go to benefit NYC Pride and its annual free events such as Youth Pride\, Family Movie Night\, The March\, PrideFest\, and more!<br />\n<br />\nDress: Brunch Chic</p>\n
LOCATION:Location TBD
UID:e.1890.1453
SEQUENCE:3
DTSTAMP:20260423T163503Z
URL:https://business.nglccny.org/events/details/pride-luminaries-brunch-1453
END:VEVENT

END:VCALENDAR
