BEGIN:VCALENDAR
VERSION:2.0
PRODID:-//ChamberMaster//Event Calendar 2.0//EN
METHOD:PUBLISH
X-PUBLISHED-TTL:P3D
REFRESH-INTERVAL:P3D
CALSCALE:GREGORIAN
BEGIN:VEVENT
DTSTART:20190425T223000Z
DTEND:20190425T233000Z
X-MICROSOFT-CDO-ALLDAYEVENT:FALSE
SUMMARY:Spring Home Buying Event
DESCRIPTION:In today's uncertain real estate market\, many buyers are asking:\n\n	What do fluctuations in interest rates mean?\n	When will the real estate market bottom?\n	What are the new state tax laws and how do they affect me if I buy a home?\n	Is it the right time for me to buy?\n\nWe'll address the complex questions many buyers are asking today with straightforward\, no-nonsense answers.  We'll discuss financing and purchase options for buyers and provide an overview of the current state of the real estate market and lending. \n\n \n\nLearn about:\n\n	Buyer advantages in today's market\n	The state of the Upper Westside and NYC real estate markets\n	Interest rates and loan options for buyers\n	New state tax laws and its effect on closing costs\n	The financial benefits of lower interest rates versus a lower purchase price\n	Home ownership versus renting.  Which is right for you?\n\nSeminar presenters Phyllis Mehalakes and Dan Cataldo have over 35 years of combined experience in real estate sales and lending in New York City. \n\n\n\nCome and join us for an evening of light refreshments\, education\, and lively discussion.\n\n\n\nTo RSVP\, contact: phyllis.mehalakes@compass.com
X-ALT-DESC;FMTTYPE=text/html:In today&rsquo\;s uncertain real estate market\, many buyers are asking:\n<ul>\n	<li>What do fluctuations in interest rates mean?</li>\n	<li>When will the real estate market bottom?</li>\n	<li>What are the new state tax laws and how do they affect me if I buy a home?</li>\n	<li>Is it the right time for me to buy?</li>\n</ul>\nWe&rsquo\;ll address the complex questions many buyers are asking today with straightforward\, no-nonsense answers.&nbsp\; We&rsquo\;ll discuss financing and purchase options for buyers and provide an overview of the current state of the real estate market and lending.&nbsp\;<br />\n&nbsp\;<br />\nLearn about:\n<ul>\n	<li>Buyer advantages in today&rsquo\;s market</li>\n	<li>The state of the Upper Westside and NYC real estate markets</li>\n	<li>Interest rates and loan options for buyers</li>\n	<li>New state tax laws and its effect on closing costs</li>\n	<li>The financial benefits of lower interest rates versus a lower purchase price</li>\n	<li>Home ownership versus renting.&nbsp\; Which is right for you?</li>\n</ul>\nSeminar presenters Phyllis Mehalakes and Dan Cataldo have over 35 years of combined experience in real estate sales and lending in New York City.&nbsp\;<br />\n<br />\nCome and join us for an evening of light refreshments\, education\, and lively discussion.<br />\n<br />\nTo RSVP\, contact: <a href="mailto:phyllis.mehalakes@compass.com">phyllis.mehalakes@compass.com</a>
LOCATION:TD Bank 68th & Broadway
UID:e.1890.1460
SEQUENCE:3
DTSTAMP:20260423T182133Z
URL:https://business.nglccny.org/events/details/spring-home-buying-event-1460
END:VEVENT

END:VCALENDAR
