BEGIN:VCALENDAR
VERSION:2.0
PRODID:-//ChamberMaster//Event Calendar 2.0//EN
METHOD:PUBLISH
X-PUBLISHED-TTL:P3D
REFRESH-INTERVAL:P3D
CALSCALE:GREGORIAN
BEGIN:VEVENT
DTSTART:20161026T220000Z
DTEND:20161027T000000Z
X-MICROSOFT-CDO-ALLDAYEVENT:FALSE
SUMMARY:Supplier Diversity: How to Grow an LGBT-owned Business
DESCRIPTION:If your business is at least 51% or more owned by LGBT individuals and it is not certified by the National Gay & Lesbian Chamber of Commerce (NGLCC)\, you are missing out on great opportunities to potentially do business with large companies (think Fortune 500) throughout the world as well as with certain federal and local government agencies.\n\n \n\nMajor global and U.S companies\, as well as a growing number of federal and local governmental agencies\, have proactive programs in place that encourage external sourcing and procurement opportunities for businesses that have been traditionally underutilized because they are owned by minorities\, women\, veterans\, and LGBT individuals.\n\n\n\nThe Manhattan Chamber of Commerce and The National Gay & Lesbian Chamber of Commerce (NGLCC) & NGLCCNY co-host a Supplier Diversity: How to Grow an LGBT-owned Business Enterprise\, sponsored by Microsoft.\n\n \n\nNGLCC is the sole certifying entity for businesses that are at least 51% or more LGBT owned and offers its certified businesses the ability to make connections and open doors with large companies\, certain government agencies\, and each other. Certification by NGLCC as an LGBT Business Enterprise is your key to gain exposure to certain procurement opportunities. In addition to gaining access to key individuals within large companies and government agencies\, certification ensures that your company is included in NGLCC's exclusive database of LGBT Business Enterprises where your business can be viewed by large companies and government agencies.\n\n\n\nPlease join us for this free educational and networking event. You will learn about emerging procurement initiatives for LGBT businesses during a panel discussion with representatives of NGLCCNY\, the owner of an LGBT Business Enterprise\, and a corporate procurement and supplier diversity professionals from TD Bank. You will also have a chance to ask questions and network over food and wine with the panelists and guests.\n\n \n\nYou'll also experience a presentation by Jeremy Youett\, Senior Events Marketing Manager and Microsoft GLEAM New York Board Lead (GLBT+ Advisory Committee) on Microsoft's LGBT diversity initiatives.\n\n\n\n \n\n\n\n\nPanel participants include:\n\n\n	Moderator:  Rob Finkelstein\, Supplier Diversity Chair\, NGLCCNY\n	Deborah B. Grossman\, VP\, Manager\, Procurement Corporate Responsibility\, Strategic Resourcing Group\, TD Bank\n	Tony Ray Meyer\, Jr.\, Co-Founder of TestTracks\n\n Opening Remarks from Jonathan Lovitz\, NGLCC Senior Vice President & Director of NGLCCNY\; Jon Gilbert & Julio Tumbaco\, MCC LGBT Business Network Co-Chairs\;  and Jeremy Youett of Microsoft.
X-ALT-DESC;FMTTYPE=text/html:<br />\n<span style="font-size:14px\;"><span style="font-family:verdana\;"><span style="color:black\;">If your business is at least 51% or more owned by LGBT individuals and it is not certified by the National Gay &amp\; Lesbian Chamber of Commerce (NGLCC)\, you are missing out on great opportunities to potentially do business with </span><a><span style="color:#80bae5\;">large companies (think Fortune 500)</span></a><span style="color:black\;"><a> </a></span><span style="color:black\;">throughout the world as well as with certain federal and local government agencies.</span><br />\n&nbsp\;<br />\n<span style="color:black\;">Major global and U.S companies\, as well as a growing number of federal and local governmental agencies\, have proactive programs in place that encourage external sourcing and procurement opportunities for businesses that have been traditionally underutilized because they are owned by minorities\, women\, veterans\, and LGBT individuals.</span><br />\n<br />\n<span style="color:#18376A\;">The </span><a href="http://www.manhattancc.org" target="_blank"><span style="color:#80bae5\;">Manhattan Chamber of Commerce</span></a><span style="color:#18376A\;"> and The </span><a href="http://nglcc.org" target="_blank"><span style="color:#80bae5\;">National Gay &amp\; Lesbian Chamber of Commerce (NGLCC) </span></a><span style="color:#80bae5\;">&amp\; </span><a href="http://nglccny.org" target="_blank"><span style="color:#80bae5\;">NGLCCNY</span></a><span style="color:#18376A\;"> co-host a Supplier Diversity: How to Grow an LGBT-owned Business Enterprise\, sponsored by Microsoft.</span><br />\n&nbsp\;<br />\n<span style="color:black\;">NGLCC is the sole certifying entity for businesses that are at least 51% or more LGBT owned and offers its certified businesses the ability to make connections and open doors with large companies\, certain government agencies\, and each other. </span><a><span style="color:#80bae5\;">Certification by </span></a><a href="http://http://nglcc.org/get-certified" target="_blank"><span style="color:#80bae5\;">NGLCC</span></a><span style="color:#80bae5\;"> </span><span style="color:black\;">as an </span><a href="http://http://nglcc.org/get-certified" target="_blank"><span style="color:#80bae5\;">LGBT</span></a><span style="color:black\;"> Business Enterprise</span><span style="color:black\;">&nbsp\;is your key to gain exposure to certain procurement opportunities. In addition to gaining access to key individuals within large companies and government agencies\, certification ensures that your company is included in NGLCC&rsquo\;s exclusive database of LGBT Business Enterprises where your business can be viewed by large companies and government agencies.</span><br />\n<br />\n<span style="color:black\;">Please join us for this free educational and networking event.&nbsp\;You will learn about emerging procurement initiatives for LGBT businesses during a panel discussion with representatives of NGLCCNY\, the owner of an LGBT Business Enterprise\, and a corporate procurement and supplier diversity professionals from </span><a><span style="color:#80bae5\;">TD Bank</span></a><span style="color:black\;">. You will also have a chance to ask questions and network over food and wine with the panelists and guests.</span><br />\n&nbsp\;<br />\n<span style="color:#383636\;">You&rsquo\;ll also experience a presentation by&nbsp\;</span><a href="https://www.linkedin.com/in/jeremyyouett" target="_blank"><span style="color:#80bae5\;"><span style="text-decoration:none\;text-underline:none\;">Jeremy Youett</span></span></a><span style="color:#383636\;">\, Senior Events Marketing Manager and </span><a><span style="color:#80bae5\;">Microsoft GLEAM</span></a><span style="color:#383636\;"><a>&nbsp\;</a></span><span style="color:#383636\;">New</span><span style="color:#383636\;"> York Board Lead (GLBT+ Advisory Committee) on Microsoft&rsquo\;s LGBT diversity initiatives.</span></span></span>\n\n<div>\n<div>\n<div id="_com_1" uage="JavaScript">&nbsp\;</div>\n</div>\n</div>\n<br />\n<span style="font-size:14px\;"><span style="font-family:verdana\;"><span style="color:#18376A\;">Panel participants include:</span></span></span>\n\n<ul>\n	<li><span style="font-size:14px\;"><span style="font-family:verdana\;"><span style="color:#18376A\;">Moderator:&nbsp\; </span><a href="https://www.linkedin.com/in/rob-finkelstein-1542263" target="_blank"><span style="color:#80bae5\;">Rob Finkelstein</span></a><span style="color:#18376A\;">\, Supplier Diversity Chair\, NGLCCNY</span></span></span></li>\n	<li><span style="font-size:14px\;"><span style="font-family:verdana\;"><a href="https://www.linkedin.com/in/deborahbethgrossman" target="_blank"><span style="color:#80bae5\;">Deborah B. Grossman</span></a><span style="color:#18376A\;">\, VP\, Manager\, Procurement Corporate Responsibility\, Strategic Resourcing Group\, TD Bank</span></span></span></li>\n	<li><span style="font-size:14px\;"><span style="font-family:verdana\;"><a href="https://www.linkedin.com/in/tonyraymeyer"><span style="color:#80bae5\;">Tony Ray&nbsp\;Meyer\, Jr.</span></a><span style="color:#18376A\;">\, Co-Founder of TestTracks</span></span></span></li>\n</ul>\n&#8203\;<span style="font-size:14px\;"><span style="font-family:verdana\;"><span style="color:#18376A\;"><span style="font-size:14px\;"><span style="font-family:verdana\;"><span style="color:#18376A\;">Opening Remarks from </span></span></span></span><span style="font-size:14px\;"><span style="font-family:verdana\;"><a href="https://www.linkedin.com/in/jonathandlovitz" target="_blank"><span style="color:#80bae5\;">Jonathan Lovitz</span></a></span></span><span style="color:#18376A\;"><span style="font-size:14px\;"><span style="font-family:verdana\;"><span style="color:#18376A\;">\, NGLCC Senior Vice President &amp\; Director of NGLCCNY\; Jon Gilbert &amp\; Julio Tumbaco\, MCC LGBT Business Network Co-Chairs\; &nbsp\;and&nbsp\;</span></span></span></span><span style="font-size:14px\;"><span style="font-family:verdana\;"><a href="http://www.linkedin.com/in/jeremyyouett" target="_blank"><span style="color:#80bae5\;">Jeremy Youett</span></a></span></span><span style="color:#18376A\;"><span style="font-size:14px\;"><span style="font-family:verdana\;"><span style="color:#18376A\;"> of Microsoft.</span></span></span></span></span></span><br />\n<br />\n<span style="font-size:14px\;"><span style="font-family:verdana\;">&nbsp\;</span></span><br />\n&nbsp\;\n<blockquote style="color: rgb(0\, 0\, 0)\; font-family: -webkit-standard\; font-style: normal\;" type="cite">\n<div>\n<div class="WordSection1" style="page: WordSection1\; font-family: Helvetica\; font-size: 12px\;">\n<div style="margin: 0in 0in 0.0001pt\; font-size: 12pt\; font-family: 'Times New Roman'\, serif\;">&nbsp\;</div>\n</div>\n</div>\n</blockquote>\n
LOCATION:Conference Room Central Park West 6501 11 Times Square\, 6th Floor New York\, NY 10036
UID:e.1890.149
SEQUENCE:3
DTSTAMP:20260425T204254Z
URL:https://business.nglccny.org/events/details/supplier-diversity-how-to-grow-an-lgbt-owned-business-149
END:VEVENT

END:VCALENDAR
