BEGIN:VCALENDAR
VERSION:2.0
PRODID:-//ChamberMaster//Event Calendar 2.0//EN
METHOD:PUBLISH
X-PUBLISHED-TTL:P3D
REFRESH-INTERVAL:P3D
CALSCALE:GREGORIAN
BEGIN:VEVENT
DTSTART:20230510T170000Z
DTEND:20230510T200000Z
X-MICROSOFT-CDO-ALLDAYEVENT:FALSE
SUMMARY:World Trade Week Kickoff
DESCRIPTION:Supply Chain Panel Discussion: Digitizing the Global Supply Chain: Opportunities and Challenges\n\nModerator: Pete Mento\, SVP Compliance\, TRAFFIC TECH\, INC.\n\nPanelists: \n\nDeclan Daly\, Chief Operating Officer\, United States Council for International Business \n\nTena Vel Thomas\, Port Director\, Port of New York/Newark\, New York Field Office\, U.S. Customs & Border Protection \n\nJ. Ross Pruett\, Business Development Manager\, Maersk \n\nCarli Gallagher\, Vice President\, Business Development Northeast Region\, Avalon Risk Management Insurance Agency LLC\n\n1-2 pm: Registration and Networking \n\n2-3:30 pm: Panel Discussion and Awards \n\n3:30-4 pm Networking\n\nBaruch College\, The William and Anita Newman Conference Center\, 151 East 25th Street\, 7TH Floor\, (bet Lexington and Third Avenues)\, New York\, NY 10010\n\nRegister here for the in-person event: https://wtwnyc-kick-off.eventbrite.com/\n\n Register here to attend the event online: https://wtwnyc-kick-off-virtual.eventbrite.com/
X-ALT-DESC;FMTTYPE=text/html:<p id="yui_3_14_1_4_1682718375277_194" style="margin: 22px 0px 0px\; padding: 0px\; font-size: 20.006999969482422px\; font-family: HelveticaNeueLT-Thin\, helvetica\, arial\, sans-serif\; box-sizing: border-box\; outline: none\; color: rgb(69\, 69\, 69)\;">Supply Chain Panel Discussion: Digitizing the Global Supply Chain: Opportunities and Challenges</p>\n\n<p id="yui_3_14_1_4_1682718375277_209" style="margin: 22px 0px 0px\; padding: 0px\; font-size: 20.006999969482422px\; font-family: HelveticaNeueLT-Thin\, helvetica\, arial\, sans-serif\; box-sizing: border-box\; outline: none\; color: rgb(69\, 69\, 69)\;">Moderator: Pete Mento\, SVP Compliance\, TRAFFIC TECH\, INC.</p>\n\n<p id="yui_3_14_1_4_1682718375277_202" style="margin: 22px 0px 0px\; padding: 0px\; font-size: 20.006999969482422px\; font-family: HelveticaNeueLT-Thin\, helvetica\, arial\, sans-serif\; box-sizing: border-box\; outline: none\; color: rgb(69\, 69\, 69)\;">Panelists:&nbsp\;<br style="box-sizing: border-box\; outline: none\;" />\nDeclan Daly\, Chief Operating Officer\, United States Council for International Business&nbsp\;<br style="box-sizing: border-box\; outline: none\;" />\nTena Vel Thomas\, Port Director\, Port of New York/Newark\, New York Field Office\, U.S. Customs &amp\; Border Protection&nbsp\;<br style="box-sizing: border-box\; outline: none\;" />\nJ. Ross Pruett\, Business Development Manager\, Maersk&nbsp\;<br style="box-sizing: border-box\; outline: none\;" />\nCarli Gallagher\, Vice President\, Business Development Northeast Region\, Avalon Risk Management Insurance Agency LLC</p>\n\n<p id="yui_3_14_1_4_1682718375277_201" style="margin: 22px 0px 0px\; padding: 0px\; font-size: 20.006999969482422px\; font-family: HelveticaNeueLT-Thin\, helvetica\, arial\, sans-serif\; box-sizing: border-box\; outline: none\; color: rgb(69\, 69\, 69)\;">1-2 pm: Registration and Networking&nbsp\;<br style="box-sizing: border-box\; outline: none\;" />\n2-3:30 pm: Panel Discussion and Awards&nbsp\;<br style="box-sizing: border-box\; outline: none\;" />\n3:30-4 pm Networking</p>\n\n<p id="yui_3_14_1_4_1682718375277_200" style="margin: 22px 0px 0px\; padding: 0px\; font-size: 20.006999969482422px\; font-family: HelveticaNeueLT-Thin\, helvetica\, arial\, sans-serif\; box-sizing: border-box\; outline: none\; color: rgb(69\, 69\, 69)\;">Baruch College\, The William and Anita Newman Conference Center\, 151 East 25th Street\, 7TH Floor\, (bet Lexington and Third Avenues)\, New York\, NY 10010</p>\n\n<p id="yui_3_14_1_4_1682718375277_199" style="margin: 22px 0px 0px\; padding: 0px\; font-size: 20.006999969482422px\; font-family: HelveticaNeueLT-Thin\, helvetica\, arial\, sans-serif\; box-sizing: border-box\; outline: none\; color: rgb(69\, 69\, 69)\;">Register here for the in-person event:&nbsp\;<a class="external-link" href="https://wtwnyc-kick-off.eventbrite.com/" id="yui_3_14_1_4_1682718375277_215" rel="external" style="color: rgb(0\, 141\, 207)\; text-decoration: none\; box-sizing: border-box\; outline: none\;">https://wtwnyc-kick-off.eventbrite.com/</a></p>\n\n<p id="yui_3_14_1_4_1682718375277_196" style="margin: 22px 0px 0px\; padding: 0px\; font-size: 20.006999969482422px\; font-family: HelveticaNeueLT-Thin\, helvetica\, arial\, sans-serif\; box-sizing: border-box\; outline: none\; color: rgb(69\, 69\, 69)\;">&#8203\;Register here to attend the event online:&nbsp\;<a class="external-link" href="https://wtwnyc-kick-off-virtual.eventbrite.com/" id="yui_3_14_1_4_1682718375277_198" rel="external" style="color: rgb(0\, 141\, 207)\; text-decoration: none\; box-sizing: border-box\; outline: none\;">https://wtwnyc-kick-off-virtual.eventbrite.com/</a></p>\n
LOCATION:
UID:e.1890.1638
SEQUENCE:3
DTSTAMP:20260420T071353Z
URL:https://business.nglccny.org/events/details/world-trade-week-kickoff-1638
END:VEVENT

END:VCALENDAR
